BEGIN:VCALENDAR
VERSION:2.0
PRODID:icalendar-ruby
CALSCALE:GREGORIAN
METHOD:PUBLISH
BEGIN:VEVENT
DTSTAMP:20260421T214720Z
UID:5-1405644@ccdouglaston.org
DTSTART:20260809T143000Z
DTEND:20260809T160000Z
CLASS:PUBLIC
CREATED:20260421T173148
DESCRIPTION:Join us for worship this Sunday in person in the Sanctuary or v
 ia our live stream on YouTube.
LAST-MODIFIED:20260421T173148
LOCATION:3950 Douglaston Parkway\, Douglaston\, NY\, 11363 
SUMMARY:Worship Celebration
URL;VALUE=URI:https://www.ccdouglaston.org/events/worship-celebration/2026-
 08-09
ATTACH;FILENAME=Worship Graphic.jpg;FMTTYPE=image/jpeg:https://dq5pwpg1q8ru
 0.cloudfront.net/2021/05/05/20/08/41/09833db0-6b13-4531-a86e-999e031c5d9e/
 Worship%20Graphic.jpg
END:VEVENT
END:VCALENDAR
